BEGIN:VCALENDAR
VERSION:2.0
PRODID:-//Career Ready - ECPv6.15.20//NONSGML v1.0//EN
CALSCALE:GREGORIAN
METHOD:PUBLISH
X-WR-CALNAME:Career Ready
X-ORIGINAL-URL:https://careerready.org.uk
X-WR-CALDESC:Events for Career Ready
REFRESH-INTERVAL;VALUE=DURATION:PT1H
X-Robots-Tag:noindex
X-PUBLISHED-TTL:PT1H
BEGIN:VTIMEZONE
TZID:UTC
BEGIN:STANDARD
TZOFFSETFROM:+0000
TZOFFSETTO:+0000
TZNAME:UTC
DTSTART:20200101T000000
END:STANDARD
END:VTIMEZONE
BEGIN:VEVENT
DTSTART;TZID=UTC:20210722T140000
DTEND;TZID=UTC:20210722T150000
DTSTAMP:20260423T101121
CREATED:20210610T173502Z
LAST-MODIFIED:20210610T173508Z
UID:7294-1626962400-1626966000@careerready.org.uk
SUMMARY:Essential skills needed to work in the NHS
DESCRIPTION:
URL:https://careerready.org.uk/event/essential-skills-needed-to-work-in-the-nhs/
CATEGORIES:Insight Sessions
ATTACH;FMTTYPE=image/jpeg:https://careerready.org.uk/wp-content/uploads/2021/06/Comic-Relief-intern-2019.jpg
END:VEVENT
BEGIN:VEVENT
DTSTART;TZID=UTC:20210722T100000
DTEND;TZID=UTC:20210722T110000
DTSTAMP:20260423T101121
CREATED:20210610T173243Z
LAST-MODIFIED:20210610T173249Z
UID:7290-1626948000-1626951600@careerready.org.uk
SUMMARY:Careers in the NHS
DESCRIPTION:
URL:https://careerready.org.uk/event/careers-in-the-nhs/
CATEGORIES:Insight Sessions
ATTACH;FMTTYPE=image/jpeg:https://careerready.org.uk/wp-content/uploads/2021/06/BP-interns-2019.jpg
END:VEVENT
BEGIN:VEVENT
DTSTART;TZID=UTC:20210715T150000
DTEND;TZID=UTC:20210715T160000
DTSTAMP:20260423T101121
CREATED:20210610T172900Z
LAST-MODIFIED:20210617T142244Z
UID:7286-1626361200-1626364800@careerready.org.uk
SUMMARY:How to make employers notice you
DESCRIPTION:
URL:https://careerready.org.uk/event/how-to-make-employers-notice-you/
CATEGORIES:Insight Sessions
ATTACH;FMTTYPE=image/png:https://careerready.org.uk/wp-content/uploads/2021/04/1-5.png
END:VEVENT
BEGIN:VEVENT
DTSTART;TZID=UTC:20210715T143000
DTEND;TZID=UTC:20210715T153000
DTSTAMP:20260423T101121
CREATED:20210610T172441Z
LAST-MODIFIED:20210708T100719Z
UID:7282-1626359400-1626363000@careerready.org.uk
SUMMARY:Wellbeing: investing in your most important asset
DESCRIPTION:
URL:https://careerready.org.uk/event/wellbeing-investing-in-your-most-important-asset/
CATEGORIES:Insight Sessions
ATTACH;FMTTYPE=image/jpeg:https://careerready.org.uk/wp-content/uploads/2021/06/Comic-Relief-intern-2019-2.jpg
END:VEVENT
BEGIN:VEVENT
DTSTART;TZID=UTC:20210715T113000
DTEND;TZID=UTC:20210715T123000
DTSTAMP:20260423T101121
CREATED:20210624T121518Z
LAST-MODIFIED:20210624T121524Z
UID:7334-1626348600-1626352200@careerready.org.uk
SUMMARY:GoGreen logistics with DHL
DESCRIPTION:
URL:https://careerready.org.uk/event/gogreen-logistics-with-dhl/
CATEGORIES:Insight Sessions
ATTACH;FMTTYPE=image/png:https://careerready.org.uk/wp-content/uploads/2020/09/66.png
END:VEVENT
BEGIN:VEVENT
DTSTART;TZID=UTC:20210715T100000
DTEND;TZID=UTC:20210715T110000
DTSTAMP:20260423T101121
CREATED:20210608T142206Z
LAST-MODIFIED:20210608T142213Z
UID:7269-1626343200-1626346800@careerready.org.uk
SUMMARY:A Career in Protecting Innovation
DESCRIPTION:
URL:https://careerready.org.uk/event/a-career-in-protecting-innovation/
CATEGORIES:Insight Sessions
ATTACH;FMTTYPE=image/jpeg:https://careerready.org.uk/wp-content/uploads/2021/03/jamiesmithphoto-4571.jpg
END:VEVENT
BEGIN:VEVENT
DTSTART;TZID=UTC:20210708T150000
DTEND;TZID=UTC:20210708T154500
DTSTAMP:20260423T101121
CREATED:20210608T143148Z
LAST-MODIFIED:20210608T143155Z
UID:7272-1625756400-1625759100@careerready.org.uk
SUMMARY:What You Need to Know About Assessment Centres
DESCRIPTION:
URL:https://careerready.org.uk/event/what-you-need-to-know-about-assessment-centres/
CATEGORIES:Insight Sessions
ATTACH;FMTTYPE=image/jpeg:https://careerready.org.uk/wp-content/uploads/2020/08/jamiesmithphoto-5604.jpg
END:VEVENT
BEGIN:VEVENT
DTSTART;TZID=UTC:20210708T140000
DTEND;TZID=UTC:20210708T150000
DTSTAMP:20260423T101121
CREATED:20210604T100728Z
LAST-MODIFIED:20210604T100939Z
UID:7230-1625752800-1625756400@careerready.org.uk
SUMMARY:Making LinkedIn Work for You
DESCRIPTION:
URL:https://careerready.org.uk/event/making-linkedin-work-for-you/
CATEGORIES:Insight Sessions
ATTACH;FMTTYPE=image/jpeg:https://careerready.org.uk/wp-content/uploads/2020/12/jamiesmithphoto-6758.jpg
END:VEVENT
BEGIN:VEVENT
DTSTART;TZID=UTC:20210708T113000
DTEND;TZID=UTC:20210708T123000
DTSTAMP:20260423T101121
CREATED:20210610T172105Z
LAST-MODIFIED:20210610T172112Z
UID:7279-1625743800-1625747400@careerready.org.uk
SUMMARY:Learn about the Real Estate industry
DESCRIPTION:
URL:https://careerready.org.uk/event/learn-about-the-real-estate-industry/
CATEGORIES:Insight Sessions
ATTACH;FMTTYPE=image/png:https://careerready.org.uk/wp-content/uploads/2020/12/VWEX-F.png
END:VEVENT
BEGIN:VEVENT
DTSTART;TZID=UTC:20210708T100000
DTEND;TZID=UTC:20210708T110000
DTSTAMP:20260423T101121
CREATED:20210611T075536Z
LAST-MODIFIED:20210611T075544Z
UID:7299-1625738400-1625742000@careerready.org.uk
SUMMARY:The life cycle of a tech company
DESCRIPTION:
URL:https://careerready.org.uk/event/the-life-cycle-of-a-tech-company/
CATEGORIES:Insight Sessions
ATTACH;FMTTYPE=image/jpeg:https://careerready.org.uk/wp-content/uploads/2021/06/SVB-intern-2019-2.jpg
END:VEVENT
BEGIN:VEVENT
DTSTART;TZID=UTC:20210607T123000
DTEND;TZID=UTC:20210607T133000
DTSTAMP:20260423T101121
CREATED:20210524T153019Z
LAST-MODIFIED:20220314T115920Z
UID:7104-1623069000-1623072600@careerready.org.uk
SUMMARY:How to present to young people | Workshop for Career Ready volunteers
DESCRIPTION:
URL:https://careerready.org.uk/event/how-to-present-to-young-people-workshop-for-career-ready-volunteers/
CATEGORIES:Programme Briefings
ATTACH;FMTTYPE=image/png:https://careerready.org.uk/wp-content/uploads/2021/04/2.png
END:VEVENT
BEGIN:VEVENT
DTSTART;TZID=UTC:20210604T110000
DTEND;TZID=UTC:20210604T120000
DTSTAMP:20260423T101121
CREATED:20210504T110008Z
LAST-MODIFIED:20220314T115953Z
UID:7067-1622804400-1622808000@careerready.org.uk
SUMMARY:Unconscious bias | Workshop for Career Ready Volunteers
DESCRIPTION:A special Volunteers’ Week workshop on overcoming unconscious bias in the workplace.
URL:https://careerready.org.uk/event/unconscious-bias-workshop-for-career-ready-volunteers-volunteers-week-2021/
CATEGORIES:Programme Briefings
ATTACH;FMTTYPE=image/png:https://careerready.org.uk/wp-content/uploads/2021/04/1-5.png
END:VEVENT
BEGIN:VEVENT
DTSTART;TZID=UTC:20210603T150000
DTEND;TZID=UTC:20210603T160000
DTSTAMP:20260423T101121
CREATED:20210526T112705Z
LAST-MODIFIED:20220314T120012Z
UID:7116-1622732400-1622736000@careerready.org.uk
SUMMARY:How to support students in building their network | Workshop for Career Ready volunteers
DESCRIPTION:
URL:https://careerready.org.uk/event/how-to-support-students-in-building-their-network-workshop-for-career-ready-volunteers/
CATEGORIES:Programme Briefings
ATTACH;FMTTYPE=image/png:https://careerready.org.uk/wp-content/uploads/2019/09/24.png
END:VEVENT
BEGIN:VEVENT
DTSTART;TZID=UTC:20210603T123000
DTEND;TZID=UTC:20210603T133000
DTSTAMP:20260423T101121
CREATED:20210524T152322Z
LAST-MODIFIED:20220314T120030Z
UID:7096-1622723400-1622727000@careerready.org.uk
SUMMARY:Preparing students for internships | Workshop for Career Ready volunteers
DESCRIPTION:
URL:https://careerready.org.uk/event/preparing-students-for-internships-workshop-for-career-ready-volunteers/
CATEGORIES:Internship Briefing
ATTACH;FMTTYPE=image/jpeg:https://careerready.org.uk/wp-content/uploads/2021/03/jamiesmithphoto-4571.jpg
END:VEVENT
BEGIN:VEVENT
DTSTART;TZID=UTC:20210603T100000
DTEND;TZID=UTC:20210603T110000
DTSTAMP:20260423T101121
CREATED:20210518T183157Z
LAST-MODIFIED:20220314T120044Z
UID:7073-1622714400-1622718000@careerready.org.uk
SUMMARY:Busting apprenticeship jargon | Workshop for Career Ready volunteers
DESCRIPTION:A special workshop for Career Ready volunteers on the key differences between traditional academic routes and apprenticeships\, delivered by Paula McMahon\, a Career Ready LAB Chair and Apprenticeship Ambassador.
URL:https://careerready.org.uk/event/busting-apprenticeship-jargon-workshop-for-career-ready-volunteers/
CATEGORIES:Programme Briefings
ATTACH;FMTTYPE=image/png:https://careerready.org.uk/wp-content/uploads/2019/09/17.png
END:VEVENT
BEGIN:VEVENT
DTSTART;TZID=UTC:20210602T140000
DTEND;TZID=UTC:20210602T150000
DTSTAMP:20260423T101121
CREATED:20210518T090711Z
LAST-MODIFIED:20220314T120058Z
UID:7034-1622642400-1622646000@careerready.org.uk
SUMMARY:The Power of Investing in Corporate Volunteering
DESCRIPTION:Join us for a peer-led conversation on the transformational business benefits of volunteering with Career Ready. Investing in company-led volunteering across your whole business can be a huge asset to your team\, department and company-wide goals: 91% of Career Ready volunteers said mentoring improved their coaching & leadership skills in the long-term. \nTo mark Volunteers’ Week 2021\, we are hosting a special event with leaders from our flagship corporate partners\, exploring how you can transform your workplace practices and culture through a volunteering partnership with Career Ready. \nWe’ll also be sharing the findings of our latest research among our 2\,000 employee volunteers\, covering the personal and professional impact it has had on them and their employers. \n“Having talented individuals from the Career Ready programme around to contribute to all sorts of projects has led to real change in our office; having a young perspective on things like our marketing and communications has proved to be a real asset. In terms of our own professional development\, hosting Career Ready interns has given my younger colleagues the chance to line manage and be responsible for another colleague” Career Ready volunteer from Aviva \nThis facilitated knowledge-sharing forum is aimed at senior leaders in HR & Talent recruitment\, people & culture\, D&I and community investment\, for employers across the UK.
URL:https://careerready.org.uk/event/the-power-of-investing-in-corporate-volunteering/
CATEGORIES:Employer Marketing
ATTACH;FMTTYPE=image/jpeg:https://careerready.org.uk/wp-content/uploads/2020/08/jamiesmithphoto-3849.jpg
END:VEVENT
BEGIN:VEVENT
DTSTART;TZID=UTC:20210601T120000
DTEND;TZID=UTC:20210601T130000
DTSTAMP:20260423T101121
CREATED:20210518T175312Z
LAST-MODIFIED:20220314T120133Z
UID:7062-1622548800-1622552400@careerready.org.uk
SUMMARY:Wellbeing | Workshop for Career Ready volunteers
DESCRIPTION:A special Volunteers Week workshop on wellbeing for Career Ready volunteers\, delivered by Bupa Coaches.
URL:https://careerready.org.uk/event/wellbeing-for-career-ready-volunteers-volunteers-week-2021/
CATEGORIES:Programme Briefings
ATTACH;FMTTYPE=image/jpeg:https://careerready.org.uk/wp-content/uploads/2021/05/https___cdn.evbuc_.com_images_135274511_148245756750_1_original.jpg
END:VEVENT
END:VCALENDAR